BEGIN:VCALENDAR
VERSION:2.0
PRODID:-//Kratz Business Solutions Calendar//EN
BEGIN:VEVENT
UID:KBS_VEVENT_d35459a9573352dba8b6ad5df0beb724ccef34a65d12c0abb6c0d077a11e04bd
DTSTAMP:20260424T090000
DTSTART:20260424T080000
DTEND:20260424T090000
SUMMARY:Einde inschrijftermijn "Adviseur programmainrichting Arbeidsmarkt"
DESCRIPTION:De inschrijftermijn van de inhuuropdracht "Adviseur programmain
 richting Arbeidsmarkt" Verloop op de website van Flextender.
LOCATION:https://app.flextender.nl/
END:VEVENT
END:VCALENDAR
