BEGIN:VCALENDAR
VERSION:2.0
PRODID:-//Kratz Business Solutions Calendar//EN
BEGIN:VEVENT
UID:KBS_VEVENT_b89386474d8fe2fbf6407f2caf4d85434411e79d2f9684c5b302b0296be131f9
DTSTAMP:20260430T090000
DTSTART:20260430T080000
DTEND:20260430T090000
SUMMARY:Einde inschrijftermijn "Business Continuity Management (BCM) Specia
 list"
DESCRIPTION:De inschrijftermijn van de inhuuropdracht "Business Continuity 
 Management (BCM) Specialist" Verloop op de website van Flextender.
LOCATION:https://app.flextender.nl/
END:VEVENT
END:VCALENDAR
