BEGIN:VCALENDAR
VERSION:2.0
PRODID:-//Kratz Business Solutions Calendar//EN
BEGIN:VEVENT
UID:KBS_VEVENT_06825bca3d1a9e3c94322fd30ebf9c3d8db081f51c28806e1a0d999b42329dc6
DTSTAMP:20260423T090000
DTSTART:20260423T080000
DTEND:20260423T090000
SUMMARY:Einde inschrijftermijn "Projectleider Brede Toegang"
DESCRIPTION:De inschrijftermijn van de inhuuropdracht "Projectleider Brede 
 Toegang" Verloop op de website van Flextender.
LOCATION:https://app.flextender.nl/
END:VEVENT
END:VCALENDAR
