BEGIN:VCALENDAR
VERSION:2.0
PRODID:-//Kratz Business Solutions Calendar//EN
BEGIN:VEVENT
UID:KBS_VEVENT_d60afd5c2a0eb2f592e3b2edf6ed0efc3b265087b2903140ff5e47d058c7e830
DTSTAMP:20260430T090000
DTSTART:20260430T080000
DTEND:20260430T090000
SUMMARY:Einde inschrijftermijn "Hubmanager EDIH Boost EastNL"
DESCRIPTION:De inschrijftermijn van de inhuuropdracht "Hubmanager EDIH Boos
 t EastNL" Verloop op de website van Flextender.
LOCATION:https://app.flextender.nl/
END:VEVENT
END:VCALENDAR
