BEGIN:VCALENDAR
VERSION:2.0
PRODID:-//Kratz Business Solutions Calendar//EN
BEGIN:VEVENT
UID:KBS_VEVENT_7c168fd5a91f2c9ce6033b0cf1850645c250eb2568cd63f4fb2b1afda2d46939
DTSTAMP:20260428T090000
DTSTART:20260428T080000
DTEND:20260428T090000
SUMMARY:Einde inschrijftermijn "Vertrouwenspersoon"
DESCRIPTION:De inschrijftermijn van de inhuuropdracht "Vertrouwenspersoon" 
 Verloop op de website van Flextender.
LOCATION:https://app.flextender.nl/
END:VEVENT
END:VCALENDAR
