BEGIN:VCALENDAR
VERSION:2.0
PRODID:-//Kratz Business Solutions Calendar//EN
BEGIN:VEVENT
UID:KBS_VEVENT_b8726a27c2ab627dc9037118cfed23dbb1142ee7473f3f866c05d9b78787688e
DTSTAMP:20260428T090000
DTSTART:20260428T080000
DTEND:20260428T090000
SUMMARY:Einde inschrijftermijn "Kwartiermaker IV Portfolio- en Projectmanag
 ement"
DESCRIPTION:De inschrijftermijn van de inhuuropdracht "Kwartiermaker IV Por
 tfolio- en Projectmanagement" Verloop op de website van Flextender.
LOCATION:https://app.flextender.nl/
END:VEVENT
END:VCALENDAR
