BEGIN:VCALENDAR
VERSION:2.0
PRODID:-//Kratz Business Solutions Calendar//EN
BEGIN:VEVENT
UID:KBS_VEVENT_b62b06ece01e62d0e940e6a19622e9612cc31c87699d283d4eeaa84545bead41
DTSTAMP:20260420T090000
DTSTART:20260420T080000
DTEND:20260420T090000
SUMMARY:Einde inschrijftermijn "Projectleider Maatschappelijke Weerbaarheid
  "
DESCRIPTION:De inschrijftermijn van de inhuuropdracht "Projectleider Maatsc
 happelijke Weerbaarheid " Verloop op de website van Flextender.
LOCATION:https://app.flextender.nl/
END:VEVENT
END:VCALENDAR
