BEGIN:VCALENDAR
VERSION:2.0
PRODID:-//Kratz Business Solutions Calendar//EN
BEGIN:VEVENT
UID:KBS_VEVENT_3ccaabd851bb53cf98643f14e58cbeba525508a6b4ccdf9c0324eb38c2d31a7d
DTSTAMP:20260420T090000
DTSTART:20260420T080000
DTEND:20260420T090000
SUMMARY:Einde inschrijftermijn "Projectleider Mededinging Subsidieverlening
  (Begrotings-)Subsidies in lijn brengen met de uitspraak van de Raad van S
 tate in relatie tot mededinging."
DESCRIPTION:De inschrijftermijn van de inhuuropdracht "Projectleider Mededi
 nging Subsidieverlening (Begrotings-)Subsidies in lijn brengen met de uits
 praak van de Raad van State in relatie tot mededinging." Verloop op de web
 site van Flextender.
LOCATION:https://app.flextender.nl/
END:VEVENT
END:VCALENDAR
